BEGIN:VCALENDAR
VERSION:2.0
PRODID:-//hacksw/handcal//NONSGML v1.0//EN
BEGIN:VEVENT
UID:1661
DTSTAMP:20260421T085100Z
ORGANIZER;CN=Emblaze Events:MAILTO:info@emblazegrowth.com
DTSTART:20200625T180000Z
DTEND:20200625T183000Z
SUMMARY:AA-ISP Webinar: Sales Simulations - Why They Make Sense Now More Than Ever
LOCATION:Please register for login details...
DESCRIPTION:Login Info: \nPlease click the link below to join the webinar: \nhttps://zoom.us/j/91626634090\n\nOr iPhone one-tap : \n    US: +16465588656,,91626634090#  or +13017158592,,91626634090# \nOr Telephone:\n    Dial(for higher quality, dial a number based on your current location):\n        US: +1 646 558 8656  or +1 301 715 8592  or +1 312 626 6799  or +1 669 900 6833  or +1 253 215 8782  or +1 346 248 7799  or 877 369 0926 (Toll Free) or 877 853 5247 (Toll Free)\n    Webinar ID: 916 2663 4090\n    International numbers available: https://zoom.us/u/aeq3UhBjyQ\nSimulations have consistently proven to be extremely effective for training sales reps and managers. However, few organizations incorporate simulations into their sales training mix and, as a result, miss out on its powerful benefits. In this webinar, we will show you what you've been missing and how to incorporate sales simulations to maximize sales training effectiveness and efficiency.\n \nWHAT YOU WILL LEARN\n\nDefine the Problem: Why traditional training falls short, particularly in our current environment\nSolution: The power of incorporating virtual simulations into your sales training stack\nBenefits: The added benefit of insight into sales reps’ and team performance through detailed metrics, measurements, and dashboard\nImplementation: How to blend simulations into your training – or convert altogether\n\n \nSPEAKERS\nNick Rini, Chief Revenue Officer, SellerationDario Priolo, Chief Marketing Officer, Selleration\n \nREGISTER\nThis AA-ISP-hosted webinar is complimentary and open to all. Session will be conducted via Zoom.  Can't join live?  No problem, register anyway to receive the playback information!\nDuring the scheduled presentation, if you are experiencing any trouble connecting or accessing the session, please Click here to contact Zoom Support or visit https://support.zoom.us and a technician will be available to assist you momentarily.\nFeel free to contact us with any questions at memberservices@aa-isp.org or call 1-800-604-7085 ext 130.\n \n 
END:VEVENT
END:VCALENDAR