BEGIN:VCALENDAR
VERSION:2.0
PRODID:-//hacksw/handcal//NONSGML v1.0//EN
BEGIN:VEVENT
UID:1433
DTSTAMP:20260423T150900Z
ORGANIZER;CN=Emblaze Events:MAILTO:info@emblazegrowth.com
DTSTART:20190522T223000Z
DTEND:20190523T003000Z
SUMMARY:AA-ISP Milwaukee Chapter "Kick-Off Meeting"
LOCATION:Inpro -Apollo North Location S80 W19101 Janesville Road Muskego, WI 53150
DESCRIPTION:We are looking forward to seeing you and your guests at the AA-ISP Milwaukee Chapter launch event, coming soon!\nNote: This meeting is open to all guests - members AND non-members of AA-ISP. We hope you will join us! \nTopics Include:\n\nHow closely do your Sales and Marketing teams work together in the development of lead scoring models and the definition of MQLs, SQLs and SALs?\nWhat are the top three metrics your daily performance is evaluated on? \nWhat are the top three challenges faced by Inside Sales professionals (ISPs)\n\nAgenda:\nPre-Event Networking: 5:30 pm - 6:00 pm\nWelcome / Introductions / Old Business: 6:00 pm - 6:10 pm\nRoundtable (Discussion-Recap-Key Takeaways): 6:10 pm - 6:55 pm\nWrap-up / New Business: 6:55 pm - 7:00 pm\nPost-Event Networking: 7:00 pm - 7:30 pm\n Parking: All are welcome to park in the parking lot directly in front of the building. Conference room is on the second floor (Inpro Room) and can be accessed via the elevator.\nQuestions:\nAshley Gagliano (612-298-4241) or Scott Magnus (920-600-7003)\n 
END:VEVENT
END:VCALENDAR