BEGIN:VCALENDAR
VERSION:2.0
PRODID:-//hacksw/handcal//NONSGML v1.0//EN
BEGIN:VEVENT
UID:1367
DTSTAMP:20260419T130700Z
ORGANIZER;CN=Emblaze Events:MAILTO:info@emblazegrowth.com
DTSTART:20190109T233000Z
DTEND:20190110T010000Z
SUMMARY:AA-ISP Madison Chapter New Year Kickoff Mixer
LOCATION:202 State St. Suite 300, Madison, WI 53703
DESCRIPTION:Kickoff 2019 by networking with the Madison Inside sales community. \nThis event will be held and sponsored by Bunker (buildbunker.com - insurance technology startup). There will be free drinks and food provided. \nWe're starting off 2019 with a host of planned events and sponsors. Come hear about our chapter plans, network with like-minded sales professionals, share your goals and what topics you want to discuss in future chapter meetings.\nJoin us, it will be fun!
END:VEVENT
END:VCALENDAR